BEGIN:VCALENDAR
VERSION:2.0
PRODID:-//Plone.org//NONSGML plone.app.event//EN
X-WR-TIMEZONE:Brazil/East
BEGIN:VEVENT
SUMMARY:I Encontro Regional de Vereadoras (Manhã e Tarde).
DTSTART;VALUE=DATE:20260326
DTEND;VALUE=DATE:20260327
DTSTAMP;VALUE=DATE-TIME:20260421T033508Z
UID:6c6dabdab62846b2a493b9e6cd477464@www.palmeiradasmissoes.rs.leg.br
CREATED;VALUE=DATE-TIME:20260306T141744Z
LAST-MODIFIED;VALUE=DATE-TIME:20260306T142055Z
URL:https://www.palmeiradasmissoes.rs.leg.br/institucional/eventos/i-encon
 tro-regional-de-vereadoras-manha-e-tarde
END:VEVENT
END:VCALENDAR
